BEGIN:VCALENDAR
VERSION:2.0
PRODID:-//TC Lancy-Fraisiers - ECPv6.15.20//NONSGML v1.0//EN
CALSCALE:GREGORIAN
METHOD:PUBLISH
X-ORIGINAL-URL:https://tcfraisiers.ch
X-WR-CALDESC:Évènements pour TC Lancy-Fraisiers
REFRESH-INTERVAL;VALUE=DURATION:PT1H
X-Robots-Tag:noindex
X-PUBLISHED-TTL:PT1H
BEGIN:VTIMEZONE
TZID:Europe/Zurich
BEGIN:DAYLIGHT
TZOFFSETFROM:+0100
TZOFFSETTO:+0200
TZNAME:CEST
DTSTART:20220327T010000
END:DAYLIGHT
BEGIN:STANDARD
TZOFFSETFROM:+0200
TZOFFSETTO:+0100
TZNAME:CET
DTSTART:20221030T010000
END:STANDARD
BEGIN:DAYLIGHT
TZOFFSETFROM:+0100
TZOFFSETTO:+0200
TZNAME:CEST
DTSTART:20230326T010000
END:DAYLIGHT
BEGIN:STANDARD
TZOFFSETFROM:+0200
TZOFFSETTO:+0100
TZNAME:CET
DTSTART:20231029T010000
END:STANDARD
BEGIN:DAYLIGHT
TZOFFSETFROM:+0100
TZOFFSETTO:+0200
TZNAME:CEST
DTSTART:20240331T010000
END:DAYLIGHT
BEGIN:STANDARD
TZOFFSETFROM:+0200
TZOFFSETTO:+0100
TZNAME:CET
DTSTART:20241027T010000
END:STANDARD
END:VTIMEZONE
BEGIN:VEVENT
DTSTART;VALUE=DATE:20230823
DTEND;VALUE=DATE:20230824
DTSTAMP:20260420T080236
CREATED:20230122T092402Z
LAST-MODIFIED:20230714T073036Z
UID:33010-1692748800-1692835199@tcfraisiers.ch
SUMMARY:Inscription à l'école de tennis
DESCRIPTION:Au club-house de 10h à 13h ou de 17h à 19h.
URL:https://tcfraisiers.ch/calendrier/inscription-a-lecole-de-tennis/
LOCATION:TC Lancy-Fraisiers
CATEGORIES:Ecole de tennis
END:VEVENT
END:VCALENDAR