BEGIN:VCALENDAR
VERSION:2.0
PRODID:-//TC Lancy-Fraisiers - ECPv6.15.20//NONSGML v1.0//EN
CALSCALE:GREGORIAN
METHOD:PUBLISH
X-ORIGINAL-URL:https://tcfraisiers.ch
X-WR-CALDESC:Évènements pour TC Lancy-Fraisiers
REFRESH-INTERVAL;VALUE=DURATION:PT1H
X-Robots-Tag:noindex
X-PUBLISHED-TTL:PT1H
BEGIN:VTIMEZONE
TZID:Europe/Zurich
BEGIN:DAYLIGHT
TZOFFSETFROM:+0100
TZOFFSETTO:+0200
TZNAME:CEST
DTSTART:20210328T010000
END:DAYLIGHT
BEGIN:STANDARD
TZOFFSETFROM:+0200
TZOFFSETTO:+0100
TZNAME:CET
DTSTART:20211031T010000
END:STANDARD
BEGIN:DAYLIGHT
TZOFFSETFROM:+0100
TZOFFSETTO:+0200
TZNAME:CEST
DTSTART:20220327T010000
END:DAYLIGHT
BEGIN:STANDARD
TZOFFSETFROM:+0200
TZOFFSETTO:+0100
TZNAME:CET
DTSTART:20221030T010000
END:STANDARD
BEGIN:DAYLIGHT
TZOFFSETFROM:+0100
TZOFFSETTO:+0200
TZNAME:CEST
DTSTART:20230326T010000
END:DAYLIGHT
BEGIN:STANDARD
TZOFFSETFROM:+0200
TZOFFSETTO:+0100
TZNAME:CET
DTSTART:20231029T010000
END:STANDARD
END:VTIMEZONE
BEGIN:VEVENT
DTSTART;VALUE=DATE:20220815
DTEND;VALUE=DATE:20220820
DTSTAMP:20260421T041549
CREATED:20220517T184620Z
LAST-MODIFIED:20220517T184620Z
UID:32587-1660521600-1660953599@tcfraisiers.ch
SUMMARY:Stages Kids Tennis
DESCRIPTION:Cours Kids Tennis. Groupes le matin (9h-12h) et l’après-midi (14h-17h).Les cours de niveau rouge ont lieu uniquement le matin (9h30-11h30).
URL:https://tcfraisiers.ch/calendrier/stages-kids-tennis-2/
LOCATION:TC Lancy-Fraisiers
CATEGORIES:Ecole de tennis
END:VEVENT
BEGIN:VEVENT
DTSTART;VALUE=DATE:20220824
DTEND;VALUE=DATE:20220825
DTSTAMP:20260421T041549
CREATED:20220403T111021Z
LAST-MODIFIED:20220812T074057Z
UID:32145-1661299200-1661385599@tcfraisiers.ch
SUMMARY:Inscriptions à l'école de tennis
DESCRIPTION:Horaires: de 10h à 13h ou de 17h à 19h.
URL:https://tcfraisiers.ch/calendrier/inscriptions-a-lecole-de-tennis/
LOCATION:TC Lancy-Fraisiers
CATEGORIES:Ecole de tennis
END:VEVENT
END:VCALENDAR